BEGIN:VCALENDAR
VERSION:2.0
PRODID:-//Coffenberry Middle School - ECPv6.15.12.1//NONSGML v1.0//EN
CALSCALE:GREGORIAN
METHOD:PUBLISH
X-ORIGINAL-URL:https://www.susd.k12.or.us/cms
X-WR-CALDESC:Events for Coffenberry Middle School
REFRESH-INTERVAL;VALUE=DURATION:PT1H
X-Robots-Tag:noindex
X-PUBLISHED-TTL:PT1H
BEGIN:VTIMEZONE
TZID:America/Los_Angeles
BEGIN:DAYLIGHT
TZOFFSETFROM:-0800
TZOFFSETTO:-0700
TZNAME:PDT
DTSTART:20170312T100000
END:DAYLIGHT
BEGIN:STANDARD
TZOFFSETFROM:-0700
TZOFFSETTO:-0800
TZNAME:PST
DTSTART:20171105T090000
END:STANDARD
BEGIN:DAYLIGHT
TZOFFSETFROM:-0800
TZOFFSETTO:-0700
TZNAME:PDT
DTSTART:20180311T100000
END:DAYLIGHT
BEGIN:STANDARD
TZOFFSETFROM:-0700
TZOFFSETTO:-0800
TZNAME:PST
DTSTART:20181104T090000
END:STANDARD
BEGIN:DAYLIGHT
TZOFFSETFROM:-0800
TZOFFSETTO:-0700
TZNAME:PDT
DTSTART:20190310T100000
END:DAYLIGHT
BEGIN:STANDARD
TZOFFSETFROM:-0700
TZOFFSETTO:-0800
TZNAME:PST
DTSTART:20191103T090000
END:STANDARD
BEGIN:DAYLIGHT
TZOFFSETFROM:-0800
TZOFFSETTO:-0700
TZNAME:PDT
DTSTART:20200308T100000
END:DAYLIGHT
BEGIN:STANDARD
TZOFFSETFROM:-0700
TZOFFSETTO:-0800
TZNAME:PST
DTSTART:20201101T090000
END:STANDARD
END:VTIMEZONE
BEGIN:VEVENT
DTSTART;TZID=America/Los_Angeles:20190613T183000
DTEND;TZID=America/Los_Angeles:20190613T200000
DTSTAMP:20260419T051324
CREATED:20180709T201535Z
LAST-MODIFIED:20190422T162244Z
UID:6462-1560450600-1560456000@www.susd.k12.or.us
SUMMARY:CB 8th Grade Promotion
DESCRIPTION:time – subject to change
URL:https://www.susd.k12.or.us/cms/event/cb-8th-grade-promotion/
END:VEVENT
BEGIN:VEVENT
DTSTART;TZID=America/Los_Angeles:20190613T080000
DTEND;TZID=America/Los_Angeles:20190613T170000
DTSTAMP:20260419T051324
CREATED:20180709T201439Z
LAST-MODIFIED:20190311T174841Z
UID:6460-1560412800-1560445200@www.susd.k12.or.us
SUMMARY:CB 8th Graders Last day
DESCRIPTION:
URL:https://www.susd.k12.or.us/cms/event/cb-8th-graders-last-day/
END:VEVENT
BEGIN:VEVENT
DTSTART;TZID=America/Los_Angeles:20190606T080000
DTEND;TZID=America/Los_Angeles:20190607T140000
DTSTAMP:20260419T051324
CREATED:20190328T155011Z
LAST-MODIFIED:20190328T155137Z
UID:7357-1559808000-1559916000@www.susd.k12.or.us
SUMMARY:CB AAA Camping Trip
DESCRIPTION:Overnight camping trip \nEligible students in good standings that had one year of growth on their state test.
URL:https://www.susd.k12.or.us/cms/event/cb-aaa-camping-trip/
LOCATION:Glide Oregon\, 351 Christian Camp Ln\, Glide\, 97443\, United States
END:VEVENT
BEGIN:VEVENT
DTSTART;VALUE=DATE:20190530
DTEND;VALUE=DATE:20190531
DTSTAMP:20260419T051324
CREATED:20190211T173754Z
LAST-MODIFIED:20190211T173754Z
UID:7192-1559174400-1559260799@www.susd.k12.or.us
SUMMARY:CB 7th Graders Field Trip
DESCRIPTION:Jet Boats in Grants Pass \n 
URL:https://www.susd.k12.or.us/cms/event/cb-7th-graders-field-trip/
END:VEVENT
BEGIN:VEVENT
DTSTART;TZID=America/Los_Angeles:20190529T080000
DTEND;TZID=America/Los_Angeles:20190531T170000
DTSTAMP:20260419T051324
CREATED:20180709T201408Z
LAST-MODIFIED:20180709T201408Z
UID:6458-1559116800-1559322000@www.susd.k12.or.us
SUMMARY:CB Road Scholar Trip
DESCRIPTION:8th Grade only
URL:https://www.susd.k12.or.us/cms/event/cb-road-scholar-trip/
END:VEVENT
BEGIN:VEVENT
DTSTART;VALUE=DATE:20190527
DTEND;VALUE=DATE:20190528
DTSTAMP:20260419T051324
CREATED:20180709T201320Z
LAST-MODIFIED:20180709T201320Z
UID:6456-1558915200-1559001599@www.susd.k12.or.us
SUMMARY:CB No School
DESCRIPTION:Holiday
URL:https://www.susd.k12.or.us/cms/event/cb-no-school-14/
END:VEVENT
BEGIN:VEVENT
DTSTART;TZID=America/Los_Angeles:20190522T093000
DTEND;TZID=America/Los_Angeles:20190522T113000
DTSTAMP:20260419T051324
CREATED:20190422T163908Z
LAST-MODIFIED:20190422T163908Z
UID:7492-1558517400-1558524600@www.susd.k12.or.us
SUMMARY:CB 8th Grade Transition Day
DESCRIPTION:
URL:https://www.susd.k12.or.us/cms/event/cb-8th-grade-transition-day/
LOCATION:South Umpqua High School\, 501 Chadwick Ln\, Myrtle Creek\, OR\, 97457\, United States
END:VEVENT
BEGIN:VEVENT
DTSTART;VALUE=DATE:20190522
DTEND;VALUE=DATE:20190524
DTSTAMP:20260419T051324
CREATED:20190211T173655Z
LAST-MODIFIED:20190211T173655Z
UID:7190-1558483200-1558655999@www.susd.k12.or.us
SUMMARY:CB 6th Grade Overnight Trip
DESCRIPTION:6th Grade Overnight Trip to Bend
URL:https://www.susd.k12.or.us/cms/event/cb-6th-grade-overnight-trip/
END:VEVENT
BEGIN:VEVENT
DTSTART;VALUE=DATE:20190520
DTEND;VALUE=DATE:20190521
DTSTAMP:20260419T051324
CREATED:20190328T155504Z
LAST-MODIFIED:20190328T155504Z
UID:7360-1558310400-1558396799@www.susd.k12.or.us
SUMMARY:CB Reaching Higher Field Trip to UCC
DESCRIPTION:Field Trip to UCC
URL:https://www.susd.k12.or.us/cms/event/cb-reaching-higher-field-trip-to-ucc/
LOCATION:Umpqua Community College\, 1140 Umpqua College Rd\, Roseburg\, OR\, 97470\, United States
END:VEVENT
BEGIN:VEVENT
DTSTART;TZID=America/Los_Angeles:20190517T173000
DTEND;TZID=America/Los_Angeles:20190517T193000
DTSTAMP:20260419T051324
CREATED:20180709T201248Z
LAST-MODIFIED:20180709T201248Z
UID:6454-1558114200-1558121400@www.susd.k12.or.us
SUMMARY:CB School Dance
DESCRIPTION:
URL:https://www.susd.k12.or.us/cms/event/cb-school-dance-4/
END:VEVENT
BEGIN:VEVENT
DTSTART;TZID=America/Los_Angeles:20190514T190000
DTEND;TZID=America/Los_Angeles:20190514T200000
DTSTAMP:20260419T051324
CREATED:20180815T143551Z
LAST-MODIFIED:20190220T214307Z
UID:6484-1557860400-1557864000@www.susd.k12.or.us
SUMMARY:CB Band Concert
DESCRIPTION:
URL:https://www.susd.k12.or.us/cms/event/cb-band-concert-6/
LOCATION:Coffenberry Gym\, 930 NE Spruce\, Myrtle Creek\, 97457
END:VEVENT
BEGIN:VEVENT
DTSTART;TZID=America/Los_Angeles:20190509T153000
DTEND;TZID=America/Los_Angeles:20190509T190000
DTSTAMP:20260419T051324
CREATED:20190422T163802Z
LAST-MODIFIED:20190422T163802Z
UID:7490-1557415800-1557428400@www.susd.k12.or.us
SUMMARY:CB Home Track Meet
DESCRIPTION:
URL:https://www.susd.k12.or.us/cms/event/cb-home-track-meet/
LOCATION:South Umpqua High School\, 501 Chadwick Ln\, Myrtle Creek\, OR\, 97457\, United States
END:VEVENT
BEGIN:VEVENT
DTSTART;TZID=America/Los_Angeles:20190508T090000
DTEND;TZID=America/Los_Angeles:20190508T230000
DTSTAMP:20260419T051324
CREATED:20190422T163706Z
LAST-MODIFIED:20190422T163706Z
UID:7488-1557306000-1557356400@www.susd.k12.or.us
SUMMARY:CB 5th Grade Orientation Day
DESCRIPTION:
URL:https://www.susd.k12.or.us/cms/event/cb-5th-grade-orientation-day/
END:VEVENT
BEGIN:VEVENT
DTSTART;TZID=America/Los_Angeles:20190503T080000
DTEND;TZID=America/Los_Angeles:20190503T170000
DTSTAMP:20260419T051324
CREATED:20190311T175306Z
LAST-MODIFIED:20190311T175306Z
UID:7313-1556870400-1556902800@www.susd.k12.or.us
SUMMARY:CB Reaching Higher Field Trip
DESCRIPTION:8th Grade Reaching Higher Students to the University of Oregon
URL:https://www.susd.k12.or.us/cms/event/cb-reaching-higher-field-trip/
END:VEVENT
BEGIN:VEVENT
DTSTART;TZID=America/Los_Angeles:20190424T080000
DTEND;TZID=America/Los_Angeles:20190424T170000
DTSTAMP:20260419T051324
CREATED:20180918T184412Z
LAST-MODIFIED:20180918T184412Z
UID:6566-1556092800-1556125200@www.susd.k12.or.us
SUMMARY:CB Band
DESCRIPTION:To UCC
URL:https://www.susd.k12.or.us/cms/event/cb-band/
END:VEVENT
BEGIN:VEVENT
DTSTART;VALUE=DATE:20190412
DTEND;VALUE=DATE:20190413
DTSTAMP:20260419T051324
CREATED:20180709T201211Z
LAST-MODIFIED:20180709T201211Z
UID:6452-1555027200-1555113599@www.susd.k12.or.us
SUMMARY:CB No School
DESCRIPTION:In Service End of 3rd Quarter \nGrading day
URL:https://www.susd.k12.or.us/cms/event/cb-no-school-13/
END:VEVENT
BEGIN:VEVENT
DTSTART;VALUE=DATE:20190403
DTEND;VALUE=DATE:20190407
DTSTAMP:20260419T051324
CREATED:20190311T175443Z
LAST-MODIFIED:20190311T175443Z
UID:7315-1554249600-1554595199@www.susd.k12.or.us
SUMMARY:CB FBLA
DESCRIPTION:Portland\, Oregon
URL:https://www.susd.k12.or.us/cms/event/cb-fbla/
END:VEVENT
BEGIN:VEVENT
DTSTART;VALUE=DATE:20190325
DTEND;VALUE=DATE:20190330
DTSTAMP:20260419T051324
CREATED:20180709T201124Z
LAST-MODIFIED:20180709T201124Z
UID:6450-1553472000-1553903999@www.susd.k12.or.us
SUMMARY:CB No School
DESCRIPTION:Spring Holiday
URL:https://www.susd.k12.or.us/cms/event/cb-no-school-12/
END:VEVENT
BEGIN:VEVENT
DTSTART;VALUE=DATE:20190315
DTEND;VALUE=DATE:20190316
DTSTAMP:20260419T051324
CREATED:20180709T201046Z
LAST-MODIFIED:20180709T201046Z
UID:6448-1552608000-1552694399@www.susd.k12.or.us
SUMMARY:CB No School
DESCRIPTION:Parent Conferences
URL:https://www.susd.k12.or.us/cms/event/cb-no-school-11/
END:VEVENT
BEGIN:VEVENT
DTSTART;VALUE=DATE:20190218
DTEND;VALUE=DATE:20190219
DTSTAMP:20260419T051324
CREATED:20180709T201012Z
LAST-MODIFIED:20180709T201012Z
UID:6446-1550448000-1550534399@www.susd.k12.or.us
SUMMARY:CB No School
DESCRIPTION:Holiday
URL:https://www.susd.k12.or.us/cms/event/cb-no-school-10/
END:VEVENT
BEGIN:VEVENT
DTSTART;TZID=America/Los_Angeles:20190214T090000
DTEND;TZID=America/Los_Angeles:20190214T160000
DTSTAMP:20260419T051324
CREATED:20190211T172701Z
LAST-MODIFIED:20190211T172701Z
UID:7187-1550134800-1550160000@www.susd.k12.or.us
SUMMARY:CB Honor Roll Q2 Field Trip
DESCRIPTION:Coffenberry Honor Roll Students are going to Diamond Lake. Leaving Coffenberry at 9:00am\, back to Coffenberry around 4:00 pm. Students will need to make arrangements to get home as we will not be back in time for the afternoon buses. Student cost for this trip is $5.00. There is no food available for purchase at the hilltop shop in Diamond Lake. Students can purchase a sack lunch from the school cafeteria or bring food from home.
URL:https://www.susd.k12.or.us/cms/event/cb-honor-roll-q2-field-trip/
LOCATION:Diamond Lake\, Oregon\, 350 Resort Dr\, Diamond Lake\, 97731\, United States
END:VEVENT
BEGIN:VEVENT
DTSTART;TZID=America/Los_Angeles:20190208T173000
DTEND;TZID=America/Los_Angeles:20190208T193000
DTSTAMP:20260419T051324
CREATED:20180709T200942Z
LAST-MODIFIED:20180823T201932Z
UID:6444-1549647000-1549654200@www.susd.k12.or.us
SUMMARY:CB School Dance
DESCRIPTION:
URL:https://www.susd.k12.or.us/cms/event/cb-school-dance-3/
END:VEVENT
BEGIN:VEVENT
DTSTART;VALUE=DATE:20190201
DTEND;VALUE=DATE:20190202
DTSTAMP:20260419T051324
CREATED:20180709T200902Z
LAST-MODIFIED:20180709T200902Z
UID:6442-1548979200-1549065599@www.susd.k12.or.us
SUMMARY:CB No School
DESCRIPTION:In Service- End of the 2nd quarter \nGrading Day \n 
URL:https://www.susd.k12.or.us/cms/event/cb-no-school-9/
END:VEVENT
BEGIN:VEVENT
DTSTART;TZID=America/Los_Angeles:20190123T080000
DTEND;TZID=America/Los_Angeles:20190123T170000
DTSTAMP:20260419T051324
CREATED:20180918T184230Z
LAST-MODIFIED:20180918T184230Z
UID:6563-1548230400-1548262800@www.susd.k12.or.us
SUMMARY:CB Jr. Honor Band
DESCRIPTION:Times TBA
URL:https://www.susd.k12.or.us/cms/event/cb-jr-honor-band/
END:VEVENT
BEGIN:VEVENT
DTSTART;VALUE=DATE:20190121
DTEND;VALUE=DATE:20190122
DTSTAMP:20260419T051324
CREATED:20180709T200800Z
LAST-MODIFIED:20180709T200800Z
UID:6440-1548028800-1548115199@www.susd.k12.or.us
SUMMARY:CB No School
DESCRIPTION:Holiday
URL:https://www.susd.k12.or.us/cms/event/cb-no-school-8/
END:VEVENT
BEGIN:VEVENT
DTSTART;TZID=America/Los_Angeles:20181224T080000
DTEND;TZID=America/Los_Angeles:20190104T170000
DTSTAMP:20260419T051324
CREATED:20180709T180123Z
LAST-MODIFIED:20180709T180123Z
UID:6438-1545638400-1546621200@www.susd.k12.or.us
SUMMARY:CB No School
DESCRIPTION:Winter Holiday
URL:https://www.susd.k12.or.us/cms/event/cb-no-school-7/
END:VEVENT
BEGIN:VEVENT
DTSTART;TZID=America/Los_Angeles:20181220T190000
DTEND;TZID=America/Los_Angeles:20181220T200000
DTSTAMP:20260419T051324
CREATED:20180709T180029Z
LAST-MODIFIED:20180918T184030Z
UID:6436-1545332400-1545336000@www.susd.k12.or.us
SUMMARY:CB Band Concert
DESCRIPTION:
URL:https://www.susd.k12.or.us/cms/event/cb-band-concert-5/
LOCATION:Coffenberry Gym\, 930 NE Spruce\, Myrtle Creek\, 97457
END:VEVENT
BEGIN:VEVENT
DTSTART;TZID=America/Los_Angeles:20181214T173000
DTEND;TZID=America/Los_Angeles:20181214T193000
DTSTAMP:20260419T051324
CREATED:20180709T175948Z
LAST-MODIFIED:20180709T175948Z
UID:6434-1544808600-1544815800@www.susd.k12.or.us
SUMMARY:CB School Dance
DESCRIPTION:
URL:https://www.susd.k12.or.us/cms/event/cb-school-dance-2/
END:VEVENT
BEGIN:VEVENT
DTSTART;TZID=America/Los_Angeles:20181121T080000
DTEND;TZID=America/Los_Angeles:20181123T170000
DTSTAMP:20260419T051324
CREATED:20180709T175919Z
LAST-MODIFIED:20180709T175919Z
UID:6432-1542787200-1542992400@www.susd.k12.or.us
SUMMARY:CB No School
DESCRIPTION:Holiday
URL:https://www.susd.k12.or.us/cms/event/cb-no-school-6/
END:VEVENT
BEGIN:VEVENT
DTSTART;VALUE=DATE:20181119
DTEND;VALUE=DATE:20181121
DTSTAMP:20260419T051324
CREATED:20180709T175852Z
LAST-MODIFIED:20180709T175852Z
UID:6430-1542585600-1542758399@www.susd.k12.or.us
SUMMARY:CB No School
DESCRIPTION:Parent Conferences
URL:https://www.susd.k12.or.us/cms/event/cb-no-school-5/
END:VEVENT
END:VCALENDAR