BEGIN:VCALENDAR
VERSION:2.0
PRODID:-//Coffenberry Middle School - ECPv6.15.12.1//NONSGML v1.0//EN
CALSCALE:GREGORIAN
METHOD:PUBLISH
X-WR-CALNAME:Coffenberry Middle School
X-ORIGINAL-URL:https://www.susd.k12.or.us/cms
X-WR-CALDESC:Events for Coffenberry Middle School
REFRESH-INTERVAL;VALUE=DURATION:PT1H
X-Robots-Tag:noindex
X-PUBLISHED-TTL:PT1H
BEGIN:VTIMEZONE
TZID:America/Los_Angeles
BEGIN:DAYLIGHT
TZOFFSETFROM:-0800
TZOFFSETTO:-0700
TZNAME:PDT
DTSTART:20170312T100000
END:DAYLIGHT
BEGIN:STANDARD
TZOFFSETFROM:-0700
TZOFFSETTO:-0800
TZNAME:PST
DTSTART:20171105T090000
END:STANDARD
BEGIN:DAYLIGHT
TZOFFSETFROM:-0800
TZOFFSETTO:-0700
TZNAME:PDT
DTSTART:20180311T100000
END:DAYLIGHT
BEGIN:STANDARD
TZOFFSETFROM:-0700
TZOFFSETTO:-0800
TZNAME:PST
DTSTART:20181104T090000
END:STANDARD
BEGIN:DAYLIGHT
TZOFFSETFROM:-0800
TZOFFSETTO:-0700
TZNAME:PDT
DTSTART:20190310T100000
END:DAYLIGHT
BEGIN:STANDARD
TZOFFSETFROM:-0700
TZOFFSETTO:-0800
TZNAME:PST
DTSTART:20191103T090000
END:STANDARD
BEGIN:DAYLIGHT
TZOFFSETFROM:-0800
TZOFFSETTO:-0700
TZNAME:PDT
DTSTART:20200308T100000
END:DAYLIGHT
BEGIN:STANDARD
TZOFFSETFROM:-0700
TZOFFSETTO:-0800
TZNAME:PST
DTSTART:20201101T090000
END:STANDARD
END:VTIMEZONE
BEGIN:VTIMEZONE
TZID:UTC
BEGIN:STANDARD
TZOFFSETFROM:+0000
TZOFFSETTO:+0000
TZNAME:UTC
DTSTART:20170101T000000
END:STANDARD
END:VTIMEZONE
BEGIN:VEVENT
DTSTART;TZID=America/Los_Angeles:20190214T090000
DTEND;TZID=America/Los_Angeles:20190214T160000
DTSTAMP:20260419T080817
CREATED:20190211T172701Z
LAST-MODIFIED:20190211T172701Z
UID:7187-1550134800-1550160000@www.susd.k12.or.us
SUMMARY:CB Honor Roll Q2 Field Trip
DESCRIPTION:Coffenberry Honor Roll Students are going to Diamond Lake. Leaving Coffenberry at 9:00am\, back to Coffenberry around 4:00 pm. Students will need to make arrangements to get home as we will not be back in time for the afternoon buses. Student cost for this trip is $5.00. There is no food available for purchase at the hilltop shop in Diamond Lake. Students can purchase a sack lunch from the school cafeteria or bring food from home.
URL:https://www.susd.k12.or.us/cms/event/cb-honor-roll-q2-field-trip/
LOCATION:Diamond Lake\, Oregon\, 350 Resort Dr\, Diamond Lake\, 97731\, United States
END:VEVENT
BEGIN:VEVENT
DTSTART;TZID=America/Los_Angeles:20190208T173000
DTEND;TZID=America/Los_Angeles:20190208T193000
DTSTAMP:20260419T080817
CREATED:20180709T200942Z
LAST-MODIFIED:20180823T201932Z
UID:6444-1549647000-1549654200@www.susd.k12.or.us
SUMMARY:CB School Dance
DESCRIPTION:
URL:https://www.susd.k12.or.us/cms/event/cb-school-dance-3/
END:VEVENT
BEGIN:VEVENT
DTSTART;VALUE=DATE:20190201
DTEND;VALUE=DATE:20190202
DTSTAMP:20260419T080817
CREATED:20180709T200902Z
LAST-MODIFIED:20180709T200902Z
UID:6442-1548979200-1549065599@www.susd.k12.or.us
SUMMARY:CB No School
DESCRIPTION:In Service- End of the 2nd quarter \nGrading Day \n 
URL:https://www.susd.k12.or.us/cms/event/cb-no-school-9/
END:VEVENT
BEGIN:VEVENT
DTSTART;TZID=America/Los_Angeles:20190123T080000
DTEND;TZID=America/Los_Angeles:20190123T170000
DTSTAMP:20260419T080817
CREATED:20180918T184230Z
LAST-MODIFIED:20180918T184230Z
UID:6563-1548230400-1548262800@www.susd.k12.or.us
SUMMARY:CB Jr. Honor Band
DESCRIPTION:Times TBA
URL:https://www.susd.k12.or.us/cms/event/cb-jr-honor-band/
END:VEVENT
BEGIN:VEVENT
DTSTART;VALUE=DATE:20190121
DTEND;VALUE=DATE:20190122
DTSTAMP:20260419T080817
CREATED:20180709T200800Z
LAST-MODIFIED:20180709T200800Z
UID:6440-1548028800-1548115199@www.susd.k12.or.us
SUMMARY:CB No School
DESCRIPTION:Holiday
URL:https://www.susd.k12.or.us/cms/event/cb-no-school-8/
END:VEVENT
BEGIN:VEVENT
DTSTART;TZID=America/Los_Angeles:20181224T080000
DTEND;TZID=America/Los_Angeles:20190104T170000
DTSTAMP:20260419T080817
CREATED:20180709T180123Z
LAST-MODIFIED:20180709T180123Z
UID:6438-1545638400-1546621200@www.susd.k12.or.us
SUMMARY:CB No School
DESCRIPTION:Winter Holiday
URL:https://www.susd.k12.or.us/cms/event/cb-no-school-7/
END:VEVENT
BEGIN:VEVENT
DTSTART;TZID=America/Los_Angeles:20181220T190000
DTEND;TZID=America/Los_Angeles:20181220T200000
DTSTAMP:20260419T080817
CREATED:20180709T180029Z
LAST-MODIFIED:20180918T184030Z
UID:6436-1545332400-1545336000@www.susd.k12.or.us
SUMMARY:CB Band Concert
DESCRIPTION:
URL:https://www.susd.k12.or.us/cms/event/cb-band-concert-5/
LOCATION:Coffenberry Gym\, 930 NE Spruce\, Myrtle Creek\, 97457
END:VEVENT
BEGIN:VEVENT
DTSTART;TZID=America/Los_Angeles:20181214T173000
DTEND;TZID=America/Los_Angeles:20181214T193000
DTSTAMP:20260419T080817
CREATED:20180709T175948Z
LAST-MODIFIED:20180709T175948Z
UID:6434-1544808600-1544815800@www.susd.k12.or.us
SUMMARY:CB School Dance
DESCRIPTION:
URL:https://www.susd.k12.or.us/cms/event/cb-school-dance-2/
END:VEVENT
BEGIN:VEVENT
DTSTART;TZID=America/Los_Angeles:20181121T080000
DTEND;TZID=America/Los_Angeles:20181123T170000
DTSTAMP:20260419T080817
CREATED:20180709T175919Z
LAST-MODIFIED:20180709T175919Z
UID:6432-1542787200-1542992400@www.susd.k12.or.us
SUMMARY:CB No School
DESCRIPTION:Holiday
URL:https://www.susd.k12.or.us/cms/event/cb-no-school-6/
END:VEVENT
BEGIN:VEVENT
DTSTART;VALUE=DATE:20181119
DTEND;VALUE=DATE:20181121
DTSTAMP:20260419T080817
CREATED:20180709T175852Z
LAST-MODIFIED:20180709T175852Z
UID:6430-1542585600-1542758399@www.susd.k12.or.us
SUMMARY:CB No School
DESCRIPTION:Parent Conferences
URL:https://www.susd.k12.or.us/cms/event/cb-no-school-5/
END:VEVENT
BEGIN:VEVENT
DTSTART;VALUE=DATE:20181112
DTEND;VALUE=DATE:20181113
DTSTAMP:20260419T080817
CREATED:20180709T175812Z
LAST-MODIFIED:20180912T201938Z
UID:6428-1541980800-1542067199@www.susd.k12.or.us
SUMMARY:CB No School
DESCRIPTION:Holiday
URL:https://www.susd.k12.or.us/cms/event/cb-no-school-4/
END:VEVENT
BEGIN:VEVENT
DTSTART;VALUE=DATE:20181102
DTEND;VALUE=DATE:20181103
DTSTAMP:20260419T080817
CREATED:20180709T175743Z
LAST-MODIFIED:20180709T175743Z
UID:6426-1541116800-1541203199@www.susd.k12.or.us
SUMMARY:CB No School
DESCRIPTION:In Service \nGrading Day -End of 1st Quarter
URL:https://www.susd.k12.or.us/cms/event/cb-no-school-3/
END:VEVENT
BEGIN:VEVENT
DTSTART;TZID=America/Los_Angeles:20181026T173000
DTEND;TZID=America/Los_Angeles:20181026T193000
DTSTAMP:20260419T080817
CREATED:20180709T175645Z
LAST-MODIFIED:20180709T175645Z
UID:6424-1540575000-1540582200@www.susd.k12.or.us
SUMMARY:CB School Dance
DESCRIPTION:
URL:https://www.susd.k12.or.us/cms/event/cb-school-dance/
END:VEVENT
BEGIN:VEVENT
DTSTART;VALUE=DATE:20181012
DTEND;VALUE=DATE:20181013
DTSTAMP:20260419T080817
CREATED:20180709T175610Z
LAST-MODIFIED:20180709T175610Z
UID:6422-1539302400-1539388799@www.susd.k12.or.us
SUMMARY:CB No School -
DESCRIPTION:
URL:https://www.susd.k12.or.us/cms/event/cb-no-school-2/
END:VEVENT
BEGIN:VEVENT
DTSTART;TZID=America/Los_Angeles:20180927T173000
DTEND;TZID=America/Los_Angeles:20180927T193000
DTSTAMP:20260419T080817
CREATED:20180709T175530Z
LAST-MODIFIED:20180918T135333Z
UID:6420-1538069400-1538076600@www.susd.k12.or.us
SUMMARY:CB Family Night
DESCRIPTION:Time is subject to change
URL:https://www.susd.k12.or.us/cms/event/cb-family-night-2/
END:VEVENT
BEGIN:VEVENT
DTSTART;VALUE=DATE:20180924
DTEND;VALUE=DATE:20180929
DTSTAMP:20260419T080817
CREATED:20180709T174122Z
LAST-MODIFIED:20180709T174122Z
UID:6418-1537747200-1538179199@www.susd.k12.or.us
SUMMARY:CB Book Fair
DESCRIPTION:
URL:https://www.susd.k12.or.us/cms/event/cb-book-fair-4/
END:VEVENT
BEGIN:VEVENT
DTSTART;TZID=America/Los_Angeles:20180912T080000
DTEND;TZID=America/Los_Angeles:20180912T120000
DTSTAMP:20260419T080817
CREATED:20180709T174029Z
LAST-MODIFIED:20180709T174029Z
UID:6416-1536739200-1536753600@www.susd.k12.or.us
SUMMARY:CB School Pictures
DESCRIPTION:
URL:https://www.susd.k12.or.us/cms/event/cb-school-pictures/
END:VEVENT
BEGIN:VEVENT
DTSTART;TZID=America/Los_Angeles:20180905T183000
DTEND;TZID=America/Los_Angeles:20180905T200000
DTSTAMP:20260419T080817
CREATED:20180806T151816Z
LAST-MODIFIED:20180814T230139Z
UID:6474-1536172200-1536177600@www.susd.k12.or.us
SUMMARY:Instrumental Rental Night!
DESCRIPTION:
URL:https://www.susd.k12.or.us/cms/event/instrumental-rental-night/
LOCATION:Riddle elementary\, 468 Park St\, Riddle\, OR\, United States
END:VEVENT
BEGIN:VEVENT
DTSTART;TZID=America/Los_Angeles:20180905T074500
DTEND;TZID=America/Los_Angeles:20180905T141500
DTSTAMP:20260419T080817
CREATED:20180709T173907Z
LAST-MODIFIED:20180709T173907Z
UID:6414-1536133500-1536156900@www.susd.k12.or.us
SUMMARY:CB First Day of School for 7th and 8th Graders
DESCRIPTION:
URL:https://www.susd.k12.or.us/cms/event/cb-first-day-of-school-for-7th-and-8th-graders/
END:VEVENT
BEGIN:VEVENT
DTSTART;TZID=America/Los_Angeles:20180904T074500
DTEND;TZID=America/Los_Angeles:20180904T141500
DTSTAMP:20260419T080817
CREATED:20180709T173702Z
LAST-MODIFIED:20180709T173702Z
UID:6412-1536047100-1536070500@www.susd.k12.or.us
SUMMARY:CB First Day of school 6th Graders only
DESCRIPTION:
URL:https://www.susd.k12.or.us/cms/event/cb-first-day-of-school-6th-graders-only/
END:VEVENT
BEGIN:VEVENT
DTSTART;VALUE=DATE:20180806
DTEND;VALUE=DATE:20180811
DTSTAMP:20260419T080817
CREATED:20180709T173048Z
LAST-MODIFIED:20180709T173048Z
UID:6408-1533513600-1533945599@www.susd.k12.or.us
SUMMARY:Online Registration
DESCRIPTION:
URL:https://www.susd.k12.or.us/cms/event/online-registration/
END:VEVENT
BEGIN:VEVENT
DTSTART;TZID=America/Los_Angeles:20180802T160000
DTEND;TZID=America/Los_Angeles:20180802T190000
DTSTAMP:20260419T080817
CREATED:20180709T173518Z
LAST-MODIFIED:20180709T173518Z
UID:6410-1533225600-1533236400@www.susd.k12.or.us
SUMMARY:Free Sports Physicals
DESCRIPTION:Evergreen Family Medicine- 145 NE Broadway Myrtle Creek\, OR   541.863.3146 \nFree- Pizza\, soda\, sno cones\, games\, prizes\, raffles\, and info booths. \n 
URL:https://www.susd.k12.or.us/cms/event/free-sports-physicals/
END:VEVENT
BEGIN:VEVENT
DTSTART;TZID=UTC:20180608T074500
DTEND;TZID=UTC:20180608T111000
DTSTAMP:20260419T080817
CREATED:20170621T225838Z
LAST-MODIFIED:20170621T225838Z
UID:5111-1528443900-1528456200@www.susd.k12.or.us
SUMMARY:Last day of school
DESCRIPTION:Half day \nRelease at 11:10am
URL:https://www.susd.k12.or.us/cms/event/last-day-of-school/
END:VEVENT
BEGIN:VEVENT
DTSTART;VALUE=DATE:20180607
DTEND;VALUE=DATE:20180608
DTSTAMP:20260419T080817
CREATED:20170621T225735Z
LAST-MODIFIED:20170621T225735Z
UID:5110-1528329600-1528415999@www.susd.k12.or.us
SUMMARY:Last day of school for 8th graders
DESCRIPTION:
URL:https://www.susd.k12.or.us/cms/event/last-day-of-school-for-8th-graders/
END:VEVENT
BEGIN:VEVENT
DTSTART;TZID=America/Los_Angeles:20180605T080000
DTEND;TZID=America/Los_Angeles:20180606T170000
DTSTAMP:20260419T080817
CREATED:20180228T181622Z
LAST-MODIFIED:20180228T181622Z
UID:6052-1528185600-1528304400@www.susd.k12.or.us
SUMMARY:AAA Trip
DESCRIPTION:Overnight camping trip \nEligible students in good standings that had one year of growth on their state test.
URL:https://www.susd.k12.or.us/cms/event/aaa-trip/
LOCATION:Glide Oregon\, 351 Christian Camp Ln\, Glide\, 97443\, United States
END:VEVENT
BEGIN:VEVENT
DTSTART;TZID=America/Los_Angeles:20180529T080000
DTEND;TZID=America/Los_Angeles:20180531T170000
DTSTAMP:20260419T080817
CREATED:20180228T181127Z
LAST-MODIFIED:20180228T181127Z
UID:6049-1527580800-1527786000@www.susd.k12.or.us
SUMMARY:8th Grade Road Scholar Trip
DESCRIPTION:Details coming soon
URL:https://www.susd.k12.or.us/cms/event/8th-grade-road-scholar-trip/
LOCATION:Six Flags Discovery Kingdom\, 1001 Fairgrounds Dr. SW\, Vallejo\, CA\, 94589\, United States
END:VEVENT
BEGIN:VEVENT
DTSTART;VALUE=DATE:20180528
DTEND;VALUE=DATE:20180529
DTSTAMP:20260419T080817
CREATED:20170621T225653Z
LAST-MODIFIED:20170621T225653Z
UID:5109-1527465600-1527551999@www.susd.k12.or.us
SUMMARY:No School
DESCRIPTION:Holiday
URL:https://www.susd.k12.or.us/cms/event/no-school-18/
END:VEVENT
BEGIN:VEVENT
DTSTART;TZID=America/Los_Angeles:20180518T173000
DTEND;TZID=America/Los_Angeles:20180518T193000
DTSTAMP:20260419T080817
CREATED:20180201T190729Z
LAST-MODIFIED:20180201T190729Z
UID:5906-1526664600-1526671800@www.susd.k12.or.us
SUMMARY:Coffenberry School Dance
DESCRIPTION:
URL:https://www.susd.k12.or.us/cms/event/coffenberry-school-dance-2/
LOCATION:Skyhawk Room
END:VEVENT
BEGIN:VEVENT
DTSTART;TZID=America/Los_Angeles:20180503T080000
DTEND;TZID=America/Los_Angeles:20180504T170000
DTSTAMP:20260419T080817
CREATED:20180201T190639Z
LAST-MODIFIED:20180201T190639Z
UID:5903-1525334400-1525453200@www.susd.k12.or.us
SUMMARY:School Wide Over-Night Trip
DESCRIPTION:Portland Zoo\, OMSI and North Clackamas Aquatic Park\,   Portland\, Oregon
URL:https://www.susd.k12.or.us/cms/event/school-wide-over-night-trip/
LOCATION:Portland\, OR
END:VEVENT
BEGIN:VEVENT
DTSTART;TZID=America/Los_Angeles:20180420T084500
DTEND;TZID=America/Los_Angeles:20180420T133000
DTSTAMP:20260419T080817
CREATED:20180228T180703Z
LAST-MODIFIED:20180228T180703Z
UID:6046-1524213900-1524231000@www.susd.k12.or.us
SUMMARY:Reward Trip
DESCRIPTION:Reward Trip to Ten Down Bowling \nHonor Roll Students 3rd Quarter
URL:https://www.susd.k12.or.us/cms/event/reward-trip/
LOCATION:Ten Down Bowling Roseburg\, Or\, 2400 NE Diamond Lake Blvd\, Roseburg\, OR\, 97470\, United States
END:VEVENT
END:VCALENDAR