BEGIN:VCALENDAR
VERSION:2.0
PRODID:-//Coffenberry Middle School - ECPv6.15.12.1//NONSGML v1.0//EN
CALSCALE:GREGORIAN
METHOD:PUBLISH
X-WR-CALNAME:Coffenberry Middle School
X-ORIGINAL-URL:https://www.susd.k12.or.us/cms
X-WR-CALDESC:Events for Coffenberry Middle School
REFRESH-INTERVAL;VALUE=DURATION:PT1H
X-Robots-Tag:noindex
X-PUBLISHED-TTL:PT1H
BEGIN:VTIMEZONE
TZID:UTC
BEGIN:STANDARD
TZOFFSETFROM:+0000
TZOFFSETTO:+0000
TZNAME:UTC
DTSTART:20150101T000000
END:STANDARD
END:VTIMEZONE
BEGIN:VEVENT
DTSTART;TZID=UTC:20170828T074500
DTEND;TZID=UTC:20170828T141500
DTSTAMP:20260419T153612
CREATED:20170621T223929Z
LAST-MODIFIED:20170621T223929Z
UID:5094-1503906300-1503929700@www.susd.k12.or.us
SUMMARY:CB 6th Grade First day of School
DESCRIPTION:6th Grade only \nFirst Day of School
URL:https://www.susd.k12.or.us/cms/event/cb-6th-grade-first-day-of-school/
END:VEVENT
BEGIN:VEVENT
DTSTART;TZID=UTC:20170814T150000
DTEND;TZID=UTC:20170814T180000
DTSTAMP:20260419T153612
CREATED:20170621T223831Z
LAST-MODIFIED:20170729T021934Z
UID:5093-1502722800-1502733600@www.susd.k12.or.us
SUMMARY:CB Football and Volleyball
DESCRIPTION:Volleyball Try-outs – 4:00 pm 7th and 8th Grade \nFootball Practice- 3:00 pm 7th Grade    4:00 pm 8th Grade \n  \n 
URL:https://www.susd.k12.or.us/cms/event/cb-football-and-volleyball/
LOCATION:Coffenberry Gym\, 930 NE Spruce\, Myrtle Creek\, 97457
END:VEVENT
BEGIN:VEVENT
DTSTART;TZID=UTC:20170808T080000
DTEND;TZID=UTC:20170808T150000
DTSTAMP:20260419T153612
CREATED:20170621T223606Z
LAST-MODIFIED:20170621T223606Z
UID:5092-1502179200-1502204400@www.susd.k12.or.us
SUMMARY:CB Registration and Picture Day 2017-2018
DESCRIPTION:Registration and Picture Day \n8:00 am — 3:00 pm \nClosed for lunch \n11:30 am – 1:00 pm
URL:https://www.susd.k12.or.us/cms/event/cb-registration-and-picture-day-2017-2018/
LOCATION:Coffenberry Library\, 591 NE Rice St\, Myrtle Creek\, OR\, 97457\, United States
END:VEVENT
BEGIN:VEVENT
DTSTART;TZID=UTC:20170609T074500
DTEND;TZID=UTC:20170609T110000
DTSTAMP:20260419T153612
CREATED:20160909T024326Z
LAST-MODIFIED:20160909T024326Z
UID:3603-1496994300-1497006000@www.susd.k12.or.us
SUMMARY:Last Day of School for 6th and 7th graders
DESCRIPTION:
URL:https://www.susd.k12.or.us/cms/event/last-day-of-school-for-6th-and-7th-graders/
END:VEVENT
BEGIN:VEVENT
DTSTART;TZID=UTC:20170608T074500
DTEND;TZID=UTC:20170608T141500
DTSTAMP:20260419T153612
CREATED:20160909T024239Z
LAST-MODIFIED:20160909T024239Z
UID:3602-1496907900-1496931300@www.susd.k12.or.us
SUMMARY:Last Day of School 8th Grade
DESCRIPTION:
URL:https://www.susd.k12.or.us/cms/event/last-day-of-school-8th-grade/
END:VEVENT
BEGIN:VEVENT
DTSTART;TZID=UTC:20170602T080000
DTEND;TZID=UTC:20170602T170000
DTSTAMP:20260419T153612
CREATED:20170420T220415Z
LAST-MODIFIED:20170420T220415Z
UID:4872-1496390400-1496422800@www.susd.k12.or.us
SUMMARY:DLC Field Trip
DESCRIPTION:Duck Pond in Roseburg
URL:https://www.susd.k12.or.us/cms/event/dlc-field-trip-2/
END:VEVENT
BEGIN:VEVENT
DTSTART;VALUE=DATE:20170529
DTEND;VALUE=DATE:20170530
DTSTAMP:20260419T153612
CREATED:20160909T024101Z
LAST-MODIFIED:20160909T024101Z
UID:3600-1496016000-1496102399@www.susd.k12.or.us
SUMMARY:Holiday
DESCRIPTION:No School
URL:https://www.susd.k12.or.us/cms/event/holiday-3/
END:VEVENT
BEGIN:VEVENT
DTSTART;TZID=UTC:20170526T080000
DTEND;TZID=UTC:20170526T141500
DTSTAMP:20260419T153612
CREATED:20170420T224434Z
LAST-MODIFIED:20170420T224434Z
UID:4873-1495785600-1495808100@www.susd.k12.or.us
SUMMARY:All Books Due
DESCRIPTION:All books are due to the Library.
URL:https://www.susd.k12.or.us/cms/event/all-books-due/
END:VEVENT
BEGIN:VEVENT
DTSTART;TZID=UTC:20170519T173000
DTEND;TZID=UTC:20170519T193000
DTSTAMP:20260419T153612
CREATED:20160909T024028Z
LAST-MODIFIED:20160909T024028Z
UID:3599-1495215000-1495222200@www.susd.k12.or.us
SUMMARY:CB Dance
DESCRIPTION:
URL:https://www.susd.k12.or.us/cms/event/cb-dance-4/
END:VEVENT
BEGIN:VEVENT
DTSTART;TZID=UTC:20170519T103000
DTEND;TZID=UTC:20170519T121500
DTSTAMP:20260419T153612
CREATED:20170420T220328Z
LAST-MODIFIED:20170420T220328Z
UID:4870-1495189800-1495196100@www.susd.k12.or.us
SUMMARY:DLC Field Trip
DESCRIPTION:Field Trip to River Forks Park – Cases class
URL:https://www.susd.k12.or.us/cms/event/dlc-field-trip/
LOCATION:River Forks Park
END:VEVENT
BEGIN:VEVENT
DTSTART;TZID=UTC:20170515T093000
DTEND;TZID=UTC:20170515T141500
DTSTAMP:20260419T153612
CREATED:20170420T220209Z
LAST-MODIFIED:20170420T220209Z
UID:4868-1494840600-1494857700@www.susd.k12.or.us
SUMMARY:Field Trip
DESCRIPTION:Wildlife Safari – Case\, Harris and Maddux classes \n 
URL:https://www.susd.k12.or.us/cms/event/field-trip/
LOCATION:Wildlife Safari\, 1790 Safari Rd\, Winston\, OR\, 97496\, United States
END:VEVENT
BEGIN:VEVENT
DTSTART;TZID=UTC:20170510T093000
DTEND;TZID=UTC:20170510T110000
DTSTAMP:20260419T153612
CREATED:20170114T005036Z
LAST-MODIFIED:20170114T005036Z
UID:4388-1494408600-1494414000@www.susd.k12.or.us
SUMMARY:5th Graders to visit Coffenberry
DESCRIPTION:
URL:https://www.susd.k12.or.us/cms/event/5th-graders-to-visit-coffenberry/
END:VEVENT
BEGIN:VEVENT
DTSTART;TZID=UTC:20170509T090000
DTEND;TZID=UTC:20170509T123000
DTSTAMP:20260419T153612
CREATED:20170114T004951Z
LAST-MODIFIED:20170427T002210Z
UID:4387-1494320400-1494333000@www.susd.k12.or.us
SUMMARY:8th Graders to SU High School
DESCRIPTION:
URL:https://www.susd.k12.or.us/cms/event/8th-graders-to-su-high-school/
END:VEVENT
BEGIN:VEVENT
DTSTART;TZID=UTC:20170504T173000
DTEND;TZID=UTC:20170504T190000
DTSTAMP:20260419T153612
CREATED:20170502T050457Z
LAST-MODIFIED:20170502T054247Z
UID:4921-1493919000-1493924400@www.susd.k12.or.us
SUMMARY:CB Open House for candidates for Principal
DESCRIPTION:Parents and staff will have an opportunity to meet both Laurie Collins and Sidney Hobgood\, the finalist for our new principal. Attendees will have the opportunity to ask questions and provide feedback in regards to the two candidates.
URL:https://www.susd.k12.or.us/cms/event/cb-open-house-for-candidates-for-principal/
LOCATION:Coffenberry Library\, 591 NE Rice St\, Myrtle Creek\, OR\, 97457\, United States
ORGANIZER;CN="Unnamed Organizer":MAILTO: 
END:VEVENT
BEGIN:VEVENT
DTSTART;TZID=UTC:20170503T120500
DTEND;TZID=UTC:20170503T124500
DTSTAMP:20260419T153612
CREATED:20170502T050126Z
LAST-MODIFIED:20170502T050126Z
UID:4920-1493813100-1493815500@www.susd.k12.or.us
SUMMARY:CB Practice Drill
DESCRIPTION:Coffenberry will be conducting a practice evacuation of CBMS on Wednesday\, May 3\, 2017 at 12:05 pm. Half the student body will walk up to the Catholic Church and the other half to the Church of the Nazarene.
URL:https://www.susd.k12.or.us/cms/event/cb-practice-drill/
END:VEVENT
BEGIN:VEVENT
DTSTART;TZID=UTC:20170417T173000
DTEND;TZID=UTC:20170417T183000
DTSTAMP:20260419T153612
CREATED:20160909T023906Z
LAST-MODIFIED:20160909T023906Z
UID:3597-1492450200-1492453800@www.susd.k12.or.us
SUMMARY:CB Band Concert
DESCRIPTION:
URL:https://www.susd.k12.or.us/cms/event/cb-band-concert-3/
END:VEVENT
BEGIN:VEVENT
DTSTART;TZID=UTC:20170417T080000
DTEND;TZID=UTC:20170417T141500
DTSTAMP:20260419T153612
CREATED:20170412T003548Z
LAST-MODIFIED:20170412T003548Z
UID:4791-1492416000-1492438500@www.susd.k12.or.us
SUMMARY:Reward Field Trip
DESCRIPTION:Reward Field Trip to Get Air in Eugene\, Oregon. This trip is only for invited students that have made the honor roll at Coffenberry Middle School and have not received any behavior referrals for a 9 week period and/or have no major suspensions this year. \nAll students going on this trip must have a liability waiver completed. If at all possible it must be done online. the link is https://eugene.getairmanagement.com/Waiver2.html \n  \n 
URL:https://www.susd.k12.or.us/cms/event/reward-field-trip/
LOCATION:Get Air\, 4211 W 11th Ave\, Eugene\, OR\, 97402\, United States
END:VEVENT
BEGIN:VEVENT
DTSTART;VALUE=DATE:20170407
DTEND;VALUE=DATE:20170408
DTSTAMP:20260419T153612
CREATED:20160909T023819Z
LAST-MODIFIED:20160909T023819Z
UID:3596-1491523200-1491609599@www.susd.k12.or.us
SUMMARY:In Service
DESCRIPTION:No School
URL:https://www.susd.k12.or.us/cms/event/in-service-2/
END:VEVENT
BEGIN:VEVENT
DTSTART;TZID=UTC:20170406T124500
DTEND;TZID=UTC:20170406T153000
DTSTAMP:20260419T153612
CREATED:20170322T010717Z
LAST-MODIFIED:20170322T010717Z
UID:4749-1491482700-1491492600@www.susd.k12.or.us
SUMMARY:5th Grade Science Fair
DESCRIPTION:
URL:https://www.susd.k12.or.us/cms/event/5th-grade-science-fair/
LOCATION:Coffenberry Gym\, 930 NE Spruce\, Myrtle Creek\, 97457
END:VEVENT
BEGIN:VEVENT
DTSTART;VALUE=DATE:20170327
DTEND;VALUE=DATE:20170401
DTSTAMP:20260419T153612
CREATED:20160909T023747Z
LAST-MODIFIED:20160909T023747Z
UID:3595-1490572800-1491004799@www.susd.k12.or.us
SUMMARY:Spring Holiday
DESCRIPTION:No School
URL:https://www.susd.k12.or.us/cms/event/spring-holiday/
END:VEVENT
BEGIN:VEVENT
DTSTART;VALUE=DATE:20170310
DTEND;VALUE=DATE:20170311
DTSTAMP:20260419T153612
CREATED:20160909T023658Z
LAST-MODIFIED:20160909T023658Z
UID:3594-1489104000-1489190399@www.susd.k12.or.us
SUMMARY:Parent Conferences
DESCRIPTION:No School
URL:https://www.susd.k12.or.us/cms/event/parent-conferences-2/
END:VEVENT
BEGIN:VEVENT
DTSTART;VALUE=DATE:20170220
DTEND;VALUE=DATE:20170221
DTSTAMP:20260419T153612
CREATED:20160909T023607Z
LAST-MODIFIED:20160909T023607Z
UID:3593-1487548800-1487635199@www.susd.k12.or.us
SUMMARY:Holiday
DESCRIPTION:No School
URL:https://www.susd.k12.or.us/cms/event/holiday-2/
END:VEVENT
BEGIN:VEVENT
DTSTART;TZID=UTC:20170210T173000
DTEND;TZID=UTC:20170210T193000
DTSTAMP:20260419T153612
CREATED:20160909T023526Z
LAST-MODIFIED:20160909T023526Z
UID:3592-1486747800-1486755000@www.susd.k12.or.us
SUMMARY:CB Dance
DESCRIPTION:
URL:https://www.susd.k12.or.us/cms/event/cb-dance-3/
END:VEVENT
BEGIN:VEVENT
DTSTART;VALUE=DATE:20170123
DTEND;VALUE=DATE:20170124
DTSTAMP:20260419T153612
CREATED:20160909T023448Z
LAST-MODIFIED:20160909T023448Z
UID:3591-1485129600-1485215999@www.susd.k12.or.us
SUMMARY:In Service
DESCRIPTION:No School
URL:https://www.susd.k12.or.us/cms/event/in-service/
END:VEVENT
BEGIN:VEVENT
DTSTART;VALUE=DATE:20170116
DTEND;VALUE=DATE:20170117
DTSTAMP:20260419T153612
CREATED:20160909T023408Z
LAST-MODIFIED:20160909T023408Z
UID:3590-1484524800-1484611199@www.susd.k12.or.us
SUMMARY:Holiday
DESCRIPTION:No School
URL:https://www.susd.k12.or.us/cms/event/holiday/
END:VEVENT
BEGIN:VEVENT
DTSTART;VALUE=DATE:20161219
DTEND;VALUE=DATE:20170103
DTSTAMP:20260419T153612
CREATED:20160909T023337Z
LAST-MODIFIED:20160909T023337Z
UID:3589-1482105600-1483401599@www.susd.k12.or.us
SUMMARY:Winter Holiday
DESCRIPTION:No School
URL:https://www.susd.k12.or.us/cms/event/winter-holiday/
END:VEVENT
BEGIN:VEVENT
DTSTART;TZID=UTC:20161215T053000
DTEND;TZID=UTC:20161215T183000
DTSTAMP:20260419T153612
CREATED:20160909T023248Z
LAST-MODIFIED:20160909T023248Z
UID:3588-1481779800-1481826600@www.susd.k12.or.us
SUMMARY:CB Band Concert
DESCRIPTION:
URL:https://www.susd.k12.or.us/cms/event/cb-band-concert-2/
END:VEVENT
BEGIN:VEVENT
DTSTART;TZID=UTC:20161209T173000
DTEND;TZID=UTC:20161209T193000
DTSTAMP:20260419T153612
CREATED:20160909T023203Z
LAST-MODIFIED:20160909T023203Z
UID:3587-1481304600-1481311800@www.susd.k12.or.us
SUMMARY:CB Dance
DESCRIPTION:
URL:https://www.susd.k12.or.us/cms/event/cb-dance-2/
END:VEVENT
BEGIN:VEVENT
DTSTART;VALUE=DATE:20161123
DTEND;VALUE=DATE:20161126
DTSTAMP:20260419T153612
CREATED:20160909T023123Z
LAST-MODIFIED:20160909T023123Z
UID:3586-1479859200-1480118399@www.susd.k12.or.us
SUMMARY:No School
DESCRIPTION:
URL:https://www.susd.k12.or.us/cms/event/no-school-5/
END:VEVENT
BEGIN:VEVENT
DTSTART;TZID=UTC:20161121T080000
DTEND;TZID=UTC:20161122T113000
DTSTAMP:20260419T153612
CREATED:20160909T023053Z
LAST-MODIFIED:20160909T023053Z
UID:3585-1479715200-1479814200@www.susd.k12.or.us
SUMMARY:CB Parent Conferences
DESCRIPTION:No School for kids
URL:https://www.susd.k12.or.us/cms/event/cb-parent-conferences/
END:VEVENT
END:VCALENDAR