BEGIN:VCALENDAR
VERSION:2.0
PRODID:-//Coffenberry Middle School - ECPv6.15.12.1//NONSGML v1.0//EN
CALSCALE:GREGORIAN
METHOD:PUBLISH
X-WR-CALNAME:Coffenberry Middle School
X-ORIGINAL-URL:https://www.susd.k12.or.us/cms
X-WR-CALDESC:Events for Coffenberry Middle School
REFRESH-INTERVAL;VALUE=DURATION:PT1H
X-Robots-Tag:noindex
X-PUBLISHED-TTL:PT1H
BEGIN:VTIMEZONE
TZID:UTC
BEGIN:STANDARD
TZOFFSETFROM:+0000
TZOFFSETTO:+0000
TZNAME:UTC
DTSTART:20150101T000000
END:STANDARD
END:VTIMEZONE
BEGIN:VTIMEZONE
TZID:America/Los_Angeles
BEGIN:DAYLIGHT
TZOFFSETFROM:-0800
TZOFFSETTO:-0700
TZNAME:PDT
DTSTART:20140309T100000
END:DAYLIGHT
BEGIN:STANDARD
TZOFFSETFROM:-0700
TZOFFSETTO:-0800
TZNAME:PST
DTSTART:20141102T090000
END:STANDARD
BEGIN:DAYLIGHT
TZOFFSETFROM:-0800
TZOFFSETTO:-0700
TZNAME:PDT
DTSTART:20150308T100000
END:DAYLIGHT
BEGIN:STANDARD
TZOFFSETFROM:-0700
TZOFFSETTO:-0800
TZNAME:PST
DTSTART:20151101T090000
END:STANDARD
BEGIN:DAYLIGHT
TZOFFSETFROM:-0800
TZOFFSETTO:-0700
TZNAME:PDT
DTSTART:20160313T100000
END:DAYLIGHT
BEGIN:STANDARD
TZOFFSETFROM:-0700
TZOFFSETTO:-0800
TZNAME:PST
DTSTART:20161106T090000
END:STANDARD
BEGIN:DAYLIGHT
TZOFFSETFROM:-0800
TZOFFSETTO:-0700
TZNAME:PDT
DTSTART:20170312T100000
END:DAYLIGHT
BEGIN:STANDARD
TZOFFSETFROM:-0700
TZOFFSETTO:-0800
TZNAME:PST
DTSTART:20171105T090000
END:STANDARD
END:VTIMEZONE
BEGIN:VEVENT
DTSTART;TZID=UTC:20160914T190000
DTEND;TZID=UTC:20160914T200000
DTSTAMP:20260419T210708
CREATED:20160830T235131Z
LAST-MODIFIED:20160830T235131Z
UID:3533-1473879600-1473883200@www.susd.k12.or.us
SUMMARY:DC Meeting
DESCRIPTION:A meeting for all interested students that would like to travel to DC in June.
URL:https://www.susd.k12.or.us/cms/event/dc-meeting/
LOCATION:Ms mahler’s class room\, Room number 5
END:VEVENT
BEGIN:VEVENT
DTSTART;TZID=UTC:20160830T074500
DTEND;TZID=UTC:20160830T141500
DTSTAMP:20260419T210708
CREATED:20160620T222715Z
LAST-MODIFIED:20160620T222715Z
UID:3142-1472543100-1472566500@www.susd.k12.or.us
SUMMARY:Coffenberry School starts for 7th and 8th Graders
DESCRIPTION:
URL:https://www.susd.k12.or.us/cms/event/coffenberry-school-starts-for-7th-and-8th-graders/
LOCATION:OR
END:VEVENT
BEGIN:VEVENT
DTSTART;TZID=UTC:20160829T074500
DTEND;TZID=UTC:20160829T141500
DTSTAMP:20260419T210708
CREATED:20160620T222629Z
LAST-MODIFIED:20160620T222629Z
UID:3141-1472456700-1472480100@www.susd.k12.or.us
SUMMARY:Coffenberry 6th Graders -School starts
DESCRIPTION:
URL:https://www.susd.k12.or.us/cms/event/coffenberry-6th-graders-school-starts/
LOCATION:OR
END:VEVENT
BEGIN:VEVENT
DTSTART;TZID=UTC:20160815T090000
DTEND;TZID=UTC:20160815T190000
DTSTAMP:20260419T210708
CREATED:20160620T222539Z
LAST-MODIFIED:20160810T044742Z
UID:3140-1471251600-1471287600@www.susd.k12.or.us
SUMMARY:Coffenberry Fall Sports Start
DESCRIPTION:Volleyball Try outs \n7th grade– 5 pm \n8th grade– 10:30 am \nFootball Practice \n7th grade– 9 am \n8th grade– 3 pm \n 
URL:https://www.susd.k12.or.us/cms/event/coffenberry-fall-sports-start/
LOCATION:OR
END:VEVENT
BEGIN:VEVENT
DTSTART;TZID=UTC:20160808T080000
DTEND;TZID=UTC:20160808T170000
DTSTAMP:20260419T210708
CREATED:20160620T222504Z
LAST-MODIFIED:20160620T222504Z
UID:3139-1470643200-1470675600@www.susd.k12.or.us
SUMMARY:Fall Sports Camps Start
DESCRIPTION:
URL:https://www.susd.k12.or.us/cms/event/fall-sports-camps-start/
LOCATION:OR
END:VEVENT
BEGIN:VEVENT
DTSTART;TZID=UTC:20160804T080000
DTEND;TZID=UTC:20160804T150000
DTSTAMP:20260419T210708
CREATED:20160620T222403Z
LAST-MODIFIED:20160620T222403Z
UID:3138-1470297600-1470322800@www.susd.k12.or.us
SUMMARY:Coffenberry Registration
DESCRIPTION:8 am – 3 pm \nclosed for lunch 11:30-1
URL:https://www.susd.k12.or.us/cms/event/coffenberry-registration/
LOCATION:OR
END:VEVENT
BEGIN:VEVENT
DTSTART;TZID=America/Los_Angeles:20160609T080000
DTEND;TZID=America/Los_Angeles:20160609T114500
DTSTAMP:20260419T210708
CREATED:20150819T215700Z
LAST-MODIFIED:20150819T215730Z
UID:851-1465459200-1465472700@www.susd.k12.or.us
SUMMARY:Last Day of school 6th and 7th grade
DESCRIPTION:
URL:https://www.susd.k12.or.us/cms/event/last-day-of-school-6th-and-7th-grade/
LOCATION:OR
END:VEVENT
BEGIN:VEVENT
DTSTART;TZID=America/Los_Angeles:20160608T080000
DTEND;TZID=America/Los_Angeles:20160608T141500
DTSTAMP:20260419T210708
CREATED:20150819T215607Z
LAST-MODIFIED:20150819T215607Z
UID:850-1465372800-1465395300@www.susd.k12.or.us
SUMMARY:Last Day for 8th graders
DESCRIPTION:
URL:https://www.susd.k12.or.us/cms/event/last-day-for-8th-graders/
LOCATION:OR
END:VEVENT
BEGIN:VEVENT
DTSTART;TZID=America/Los_Angeles:20160602T080000
DTEND;TZID=America/Los_Angeles:20160603T170000
DTSTAMP:20260419T210708
CREATED:20150819T215526Z
LAST-MODIFIED:20150819T215526Z
UID:849-1464854400-1464973200@www.susd.k12.or.us
SUMMARY:CB Overnight Field Trip
DESCRIPTION:
URL:https://www.susd.k12.or.us/cms/event/cb-overnight-field-trip/
LOCATION:OR
END:VEVENT
BEGIN:VEVENT
DTSTART;TZID=America/Los_Angeles:20160530T080000
DTEND;TZID=America/Los_Angeles:20160530T170000
DTSTAMP:20260419T210708
CREATED:20150819T215437Z
LAST-MODIFIED:20150819T215437Z
UID:848-1464595200-1464627600@www.susd.k12.or.us
SUMMARY:No School - Holiday
DESCRIPTION:
URL:https://www.susd.k12.or.us/cms/event/no-school-holiday-6/
LOCATION:OR
END:VEVENT
BEGIN:VEVENT
DTSTART;TZID=America/Los_Angeles:20160513T053000
DTEND;TZID=America/Los_Angeles:20160513T193000
DTSTAMP:20260419T210708
CREATED:20150819T214442Z
LAST-MODIFIED:20150819T214442Z
UID:846-1463117400-1463167800@www.susd.k12.or.us
SUMMARY:Coffenberry Dance
DESCRIPTION:
URL:https://www.susd.k12.or.us/cms/event/coffenberry-dance-5/
LOCATION:OR
END:VEVENT
BEGIN:VEVENT
DTSTART;TZID=America/Los_Angeles:20160511T091500
DTEND;TZID=America/Los_Angeles:20160511T104500
DTSTAMP:20260419T210708
CREATED:20150819T215318Z
LAST-MODIFIED:20150819T215318Z
UID:847-1462958100-1462963500@www.susd.k12.or.us
SUMMARY:5th Grade to visit Coffenberry
DESCRIPTION:
URL:https://www.susd.k12.or.us/cms/event/5th-grade-to-visit-coffenberry/
LOCATION:OR
END:VEVENT
BEGIN:VEVENT
DTSTART;TZID=UTC:20160510T090000
DTEND;TZID=UTC:20160510T110000
DTSTAMP:20260419T210708
CREATED:20160418T210839Z
LAST-MODIFIED:20160418T210839Z
UID:2890-1462870800-1462878000@www.susd.k12.or.us
SUMMARY:CB 8th Grade to High School
DESCRIPTION:
URL:https://www.susd.k12.or.us/cms/event/cb-8th-grade-to-high-school/
LOCATION:South Umpqua High School\, 501 Chadwick Ln\, Myrtle Creek\, OR\, 97457\, United States
END:VEVENT
BEGIN:VEVENT
DTSTART;TZID=America/Los_Angeles:20160502T080000
DTEND;TZID=America/Los_Angeles:20160506T170000
DTSTAMP:20260419T210708
CREATED:20150819T214322Z
LAST-MODIFIED:20150819T214322Z
UID:845-1462176000-1462554000@www.susd.k12.or.us
SUMMARY:Spirit Week
DESCRIPTION:
URL:https://www.susd.k12.or.us/cms/event/spirit-week-2/
LOCATION:OR
END:VEVENT
BEGIN:VEVENT
DTSTART;TZID=America/Los_Angeles:20160408T080000
DTEND;TZID=America/Los_Angeles:20160408T141500
DTSTAMP:20260419T210708
CREATED:20150819T214154Z
LAST-MODIFIED:20150819T214154Z
UID:844-1460102400-1460124900@www.susd.k12.or.us
SUMMARY:No School - Inservice
DESCRIPTION:End of 3rd Quarter
URL:https://www.susd.k12.or.us/cms/event/no-school-inservice-3/
LOCATION:OR
END:VEVENT
BEGIN:VEVENT
DTSTART;TZID=America/Los_Angeles:20160406T173000
DTEND;TZID=America/Los_Angeles:20160406T183000
DTSTAMP:20260419T210708
CREATED:20150819T214033Z
LAST-MODIFIED:20150819T214033Z
UID:843-1459963800-1459967400@www.susd.k12.or.us
SUMMARY:CB Band Concert
DESCRIPTION:
URL:https://www.susd.k12.or.us/cms/event/cb-band-concert/
LOCATION:OR
END:VEVENT
BEGIN:VEVENT
DTSTART;VALUE=DATE:20160329
DTEND;VALUE=DATE:20160330
DTSTAMP:20260419T210708
CREATED:20160308T060117Z
LAST-MODIFIED:20160308T060117Z
UID:2718-1459209600-1459295999@www.susd.k12.or.us
SUMMARY:No School - Staff training day
DESCRIPTION:
URL:https://www.susd.k12.or.us/cms/event/no-school-staff-training-day/
LOCATION:OR
END:VEVENT
BEGIN:VEVENT
DTSTART;TZID=America/Los_Angeles:20160319T080000
DTEND;TZID=America/Los_Angeles:20160327T170000
DTSTAMP:20260419T210708
CREATED:20150819T213149Z
LAST-MODIFIED:20150819T213149Z
UID:841-1458374400-1459098000@www.susd.k12.or.us
SUMMARY:Spring Break
DESCRIPTION:
URL:https://www.susd.k12.or.us/cms/event/spring-break/
LOCATION:OR
END:VEVENT
BEGIN:VEVENT
DTSTART;TZID=America/Los_Angeles:20160318T110000
DTEND;TZID=America/Los_Angeles:20160318T141500
DTSTAMP:20260419T210708
CREATED:20150819T213051Z
LAST-MODIFIED:20150819T213051Z
UID:840-1458298800-1458310500@www.susd.k12.or.us
SUMMARY:Afternoon Fun Day
DESCRIPTION:
URL:https://www.susd.k12.or.us/cms/event/afternoon-fun-day/
LOCATION:OR
END:VEVENT
BEGIN:VEVENT
DTSTART;TZID=America/Los_Angeles:20160314T080000
DTEND;TZID=America/Los_Angeles:20160315T170000
DTSTAMP:20260419T210708
CREATED:20150819T212945Z
LAST-MODIFIED:20150819T212945Z
UID:839-1457942400-1458061200@www.susd.k12.or.us
SUMMARY:Dental Days
DESCRIPTION:
URL:https://www.susd.k12.or.us/cms/event/dental-days-2/
LOCATION:OR
END:VEVENT
BEGIN:VEVENT
DTSTART;TZID=UTC:20160311T130000
DTEND;TZID=UTC:20160311T140000
DTSTAMP:20260419T210708
CREATED:20160127T043256Z
LAST-MODIFIED:20160127T043256Z
UID:2523-1457701200-1457704800@www.susd.k12.or.us
SUMMARY:8th Grade Picture Day
DESCRIPTION:
URL:https://www.susd.k12.or.us/cms/event/8th-grade-picture-day/
LOCATION:OR
END:VEVENT
BEGIN:VEVENT
DTSTART;TZID=America/Los_Angeles:20160215T080000
DTEND;TZID=America/Los_Angeles:20160215T170000
DTSTAMP:20260419T210708
CREATED:20150819T212857Z
LAST-MODIFIED:20150819T212857Z
UID:838-1455523200-1455555600@www.susd.k12.or.us
SUMMARY:No School - Holiday
DESCRIPTION:
URL:https://www.susd.k12.or.us/cms/event/no-school-holiday-5/
LOCATION:OR
END:VEVENT
BEGIN:VEVENT
DTSTART;TZID=UTC:20160212T073000
DTEND;TZID=UTC:20160212T113000
DTSTAMP:20260419T210708
CREATED:20150819T212731Z
LAST-MODIFIED:20160127T042846Z
UID:837-1455262200-1455276600@www.susd.k12.or.us
SUMMARY:No School - Parent Conference
DESCRIPTION:
URL:https://www.susd.k12.or.us/cms/event/no-school-parent-conference-2/
LOCATION:OR
END:VEVENT
BEGIN:VEVENT
DTSTART;TZID=UTC:20160211T180000
DTEND;TZID=UTC:20160211T200000
DTSTAMP:20260419T210708
CREATED:20150819T212654Z
LAST-MODIFIED:20160203T225300Z
UID:836-1455213600-1455220800@www.susd.k12.or.us
SUMMARY:Coffenberry Dance
DESCRIPTION:
URL:https://www.susd.k12.or.us/cms/event/coffenberry-dance-4/
LOCATION:OR
END:VEVENT
BEGIN:VEVENT
DTSTART;TZID=UTC:20160211T153000
DTEND;TZID=UTC:20160211T173000
DTSTAMP:20260419T210708
CREATED:20160127T043128Z
LAST-MODIFIED:20160127T043128Z
UID:2522-1455204600-1455211800@www.susd.k12.or.us
SUMMARY:Parent Conferences
DESCRIPTION:After school parent conferences
URL:https://www.susd.k12.or.us/cms/event/parent-conferences/
LOCATION:OR
END:VEVENT
BEGIN:VEVENT
DTSTART;TZID=America/Los_Angeles:20160129T080000
DTEND;TZID=America/Los_Angeles:20160129T170000
DTSTAMP:20260419T210708
CREATED:20150819T212551Z
LAST-MODIFIED:20150819T212551Z
UID:835-1454054400-1454086800@www.susd.k12.or.us
SUMMARY:No School - Inservice
DESCRIPTION:End of 2nd quarter for 6-8 grade
URL:https://www.susd.k12.or.us/cms/event/no-school-inservice-2/
LOCATION:OR
END:VEVENT
BEGIN:VEVENT
DTSTART;TZID=UTC:20160120T080000
DTEND;TZID=UTC:20160120T170000
DTSTAMP:20260419T210708
CREATED:20150819T212500Z
LAST-MODIFIED:20160109T044611Z
UID:834-1453276800-1453309200@www.susd.k12.or.us
SUMMARY:Make up day
DESCRIPTION:
URL:https://www.susd.k12.or.us/cms/event/proficiency-make-up-day-2/
LOCATION:OR
END:VEVENT
BEGIN:VEVENT
DTSTART;TZID=America/Los_Angeles:20160118T080000
DTEND;TZID=America/Los_Angeles:20160118T170000
DTSTAMP:20260419T210708
CREATED:20150819T212419Z
LAST-MODIFIED:20150819T212419Z
UID:833-1453104000-1453136400@www.susd.k12.or.us
SUMMARY:No School - Holiday
DESCRIPTION:
URL:https://www.susd.k12.or.us/cms/event/no-school-holiday-4/
LOCATION:OR
END:VEVENT
BEGIN:VEVENT
DTSTART;TZID=America/Los_Angeles:20151219T080000
DTEND;TZID=America/Los_Angeles:20160103T170000
DTSTAMP:20260419T210708
CREATED:20150819T212307Z
LAST-MODIFIED:20150819T212307Z
UID:832-1450512000-1451840400@www.susd.k12.or.us
SUMMARY:Winter Break
DESCRIPTION:
URL:https://www.susd.k12.or.us/cms/event/winter-break/
LOCATION:OR
END:VEVENT
BEGIN:VEVENT
DTSTART;TZID=America/Los_Angeles:20151218T080000
DTEND;TZID=America/Los_Angeles:20151218T170000
DTSTAMP:20260419T210708
CREATED:20150819T212139Z
LAST-MODIFIED:20150819T212139Z
UID:831-1450425600-1450458000@www.susd.k12.or.us
SUMMARY:CB Fun Day
DESCRIPTION:
URL:https://www.susd.k12.or.us/cms/event/cb-fun-day/
LOCATION:OR
END:VEVENT
END:VCALENDAR