BEGIN:VCALENDAR
VERSION:2.0
PRODID:-//Coffenberry Middle School - ECPv6.15.12.1//NONSGML v1.0//EN
CALSCALE:GREGORIAN
METHOD:PUBLISH
X-ORIGINAL-URL:https://www.susd.k12.or.us/cms
X-WR-CALDESC:Events for Coffenberry Middle School
REFRESH-INTERVAL;VALUE=DURATION:PT1H
X-Robots-Tag:noindex
X-PUBLISHED-TTL:PT1H
BEGIN:VTIMEZONE
TZID:America/Los_Angeles
BEGIN:DAYLIGHT
TZOFFSETFROM:-0800
TZOFFSETTO:-0700
TZNAME:PDT
DTSTART:20140309T100000
END:DAYLIGHT
BEGIN:STANDARD
TZOFFSETFROM:-0700
TZOFFSETTO:-0800
TZNAME:PST
DTSTART:20141102T090000
END:STANDARD
BEGIN:DAYLIGHT
TZOFFSETFROM:-0800
TZOFFSETTO:-0700
TZNAME:PDT
DTSTART:20150308T100000
END:DAYLIGHT
BEGIN:STANDARD
TZOFFSETFROM:-0700
TZOFFSETTO:-0800
TZNAME:PST
DTSTART:20151101T090000
END:STANDARD
BEGIN:DAYLIGHT
TZOFFSETFROM:-0800
TZOFFSETTO:-0700
TZNAME:PDT
DTSTART:20160313T100000
END:DAYLIGHT
BEGIN:STANDARD
TZOFFSETFROM:-0700
TZOFFSETTO:-0800
TZNAME:PST
DTSTART:20161106T090000
END:STANDARD
END:VTIMEZONE
BEGIN:VTIMEZONE
TZID:UTC
BEGIN:STANDARD
TZOFFSETFROM:+0000
TZOFFSETTO:+0000
TZNAME:UTC
DTSTART:20140101T000000
END:STANDARD
END:VTIMEZONE
BEGIN:VEVENT
DTSTART;TZID=America/Los_Angeles:20151217T173000
DTEND;TZID=America/Los_Angeles:20151217T183000
DTSTAMP:20260420T010316
CREATED:20150819T212048Z
LAST-MODIFIED:20150819T212048Z
UID:830-1450373400-1450377000@www.susd.k12.or.us
SUMMARY:Coffenberry Band Concert
DESCRIPTION:
URL:https://www.susd.k12.or.us/cms/event/coffenberry-band-concert/
END:VEVENT
BEGIN:VEVENT
DTSTART;TZID=America/Los_Angeles:20151211T173000
DTEND;TZID=America/Los_Angeles:20151211T193000
DTSTAMP:20260420T010316
CREATED:20150819T211948Z
LAST-MODIFIED:20150819T211948Z
UID:829-1449855000-1449862200@www.susd.k12.or.us
SUMMARY:Coffenberry Dance
DESCRIPTION:
URL:https://www.susd.k12.or.us/cms/event/coffenberry-dance-3/
END:VEVENT
BEGIN:VEVENT
DTSTART;TZID=UTC:20151210T133500
DTEND;TZID=UTC:20151210T141500
DTSTAMP:20260420T010316
CREATED:20151112T231055Z
LAST-MODIFIED:20151112T231453Z
UID:1911-1449754500-1449756900@www.susd.k12.or.us
SUMMARY:Wow Buck Party
DESCRIPTION:7th period \nCost: 10 wow bucks or 5 wow bucks and 2 food items for the canned food drive! \nAdditional food items = a raffle ticket.
URL:https://www.susd.k12.or.us/cms/event/wow-buck-party/
END:VEVENT
BEGIN:VEVENT
DTSTART;TZID=America/Los_Angeles:20151125T080000
DTEND;TZID=America/Los_Angeles:20151127T170000
DTSTAMP:20260420T010316
CREATED:20150819T211847Z
LAST-MODIFIED:20150819T211847Z
UID:828-1448438400-1448643600@www.susd.k12.or.us
SUMMARY:No School- Holiday
DESCRIPTION:
URL:https://www.susd.k12.or.us/cms/event/no-school-holiday-3/
END:VEVENT
BEGIN:VEVENT
DTSTART;TZID=America/Los_Angeles:20151123T080000
DTEND;TZID=America/Los_Angeles:20151124T170000
DTSTAMP:20260420T010316
CREATED:20150819T211803Z
LAST-MODIFIED:20150819T211803Z
UID:827-1448265600-1448384400@www.susd.k12.or.us
SUMMARY:No School Parent Conference
DESCRIPTION:
URL:https://www.susd.k12.or.us/cms/event/no-school-parent-conference/
END:VEVENT
BEGIN:VEVENT
DTSTART;TZID=UTC:20151118T124000
DTEND;TZID=UTC:20151118T131500
DTSTAMP:20260420T010316
CREATED:20151111T011507Z
LAST-MODIFIED:20151111T011507Z
UID:1898-1447850400-1447852500@www.susd.k12.or.us
SUMMARY:ETS Meeting
DESCRIPTION:
URL:https://www.susd.k12.or.us/cms/event/ets-meeting/
END:VEVENT
BEGIN:VEVENT
DTSTART;TZID=America/Los_Angeles:20151111T080000
DTEND;TZID=America/Los_Angeles:20151111T170000
DTSTAMP:20260420T010316
CREATED:20150819T211708Z
LAST-MODIFIED:20150819T211708Z
UID:826-1447228800-1447261200@www.susd.k12.or.us
SUMMARY:No School- Holiday
DESCRIPTION:
URL:https://www.susd.k12.or.us/cms/event/no-school-holiday-2/
END:VEVENT
BEGIN:VEVENT
DTSTART;TZID=America/Los_Angeles:20151106T080000
DTEND;TZID=America/Los_Angeles:20151106T170000
DTSTAMP:20260420T010316
CREATED:20150819T211628Z
LAST-MODIFIED:20150819T211628Z
UID:825-1446796800-1446829200@www.susd.k12.or.us
SUMMARY:No School - Inservice
DESCRIPTION:End of 1st quarter for 6-8 grade
URL:https://www.susd.k12.or.us/cms/event/no-school-inservice/
END:VEVENT
BEGIN:VEVENT
DTSTART;TZID=UTC:20151105T130000
DTEND;TZID=UTC:20151105T140000
DTSTAMP:20260420T010316
CREATED:20151013T211142Z
LAST-MODIFIED:20151013T211142Z
UID:1513-1446728400-1446732000@www.susd.k12.or.us
SUMMARY:Picture Re-takes
DESCRIPTION:
URL:https://www.susd.k12.or.us/cms/event/picture-re-takes/
LOCATION:Coffenberry Gym\, 930 NE Spruce\, Myrtle Creek\, 97457
END:VEVENT
BEGIN:VEVENT
DTSTART;TZID=America/Los_Angeles:20151102T080000
DTEND;TZID=America/Los_Angeles:20151103T170000
DTSTAMP:20260420T010316
CREATED:20150819T211432Z
LAST-MODIFIED:20150819T211432Z
UID:824-1446451200-1446570000@www.susd.k12.or.us
SUMMARY:Dental Days
DESCRIPTION:
URL:https://www.susd.k12.or.us/cms/event/dental-days/
END:VEVENT
BEGIN:VEVENT
DTSTART;TZID=America/Los_Angeles:20151030T173000
DTEND;TZID=America/Los_Angeles:20151030T193000
DTSTAMP:20260420T010316
CREATED:20150819T211043Z
LAST-MODIFIED:20150819T211043Z
UID:821-1446226200-1446233400@www.susd.k12.or.us
SUMMARY:Coffenberry Dance
DESCRIPTION:5:30-7:30 pm \n 
URL:https://www.susd.k12.or.us/cms/event/coffenberry-dance-2/
END:VEVENT
BEGIN:VEVENT
DTSTART;TZID=America/Los_Angeles:20151028T080000
DTEND;TZID=America/Los_Angeles:20151028T141500
DTSTAMP:20260420T010316
CREATED:20150819T210938Z
LAST-MODIFIED:20150819T210938Z
UID:820-1446019200-1446041700@www.susd.k12.or.us
SUMMARY:Proficiency make up day
DESCRIPTION:
URL:https://www.susd.k12.or.us/cms/event/proficiency-make-up-day/
END:VEVENT
BEGIN:VEVENT
DTSTART;TZID=America/Los_Angeles:20151026T080000
DTEND;TZID=America/Los_Angeles:20151030T170000
DTSTAMP:20260420T010316
CREATED:20150819T211236Z
LAST-MODIFIED:20150819T211236Z
UID:822-1445846400-1446224400@www.susd.k12.or.us
SUMMARY:Spirit Week
DESCRIPTION:
URL:https://www.susd.k12.or.us/cms/event/spirit-week/
END:VEVENT
BEGIN:VEVENT
DTSTART;TZID=America/Los_Angeles:20151023T080000
DTEND;TZID=America/Los_Angeles:20151023T170000
DTSTAMP:20260420T010316
CREATED:20150819T210842Z
LAST-MODIFIED:20150819T210842Z
UID:819-1445587200-1445619600@www.susd.k12.or.us
SUMMARY:Walking Field Trip
DESCRIPTION:Details soon
URL:https://www.susd.k12.or.us/cms/event/walking-field-trip/
END:VEVENT
BEGIN:VEVENT
DTSTART;TZID=UTC:20151013T160000
DTEND;TZID=UTC:20151013T190000
DTSTAMP:20260420T010316
CREATED:20150929T035212Z
LAST-MODIFIED:20151001T225759Z
UID:1230-1444752000-1444762800@www.susd.k12.or.us
SUMMARY:CB Volleyball vs Sutherlin
DESCRIPTION:
URL:https://www.susd.k12.or.us/cms/event/cb-volleyball-vs-sutherlin/
LOCATION:Coffenberry Middle School\, 591 NE Rice st\, Myrtle Creek\, OR\, 97457\, United States
END:VEVENT
BEGIN:VEVENT
DTSTART;TZID=UTC:20151013T160000
DTEND;TZID=UTC:20151013T180000
DTSTAMP:20260420T010316
CREATED:20151001T225312Z
LAST-MODIFIED:20151001T225312Z
UID:1272-1444752000-1444759200@www.susd.k12.or.us
SUMMARY:CB Football vs Sunset
DESCRIPTION:
URL:https://www.susd.k12.or.us/cms/event/cb-football-vs-sunset/
LOCATION:Coffenberry Middle School\, 591 NE Rice st\, Myrtle Creek\, OR\, 97457\, United States
END:VEVENT
BEGIN:VEVENT
DTSTART;TZID=UTC:20151012T160000
DTEND;TZID=UTC:20151012T190000
DTSTAMP:20260420T010316
CREATED:20150929T034615Z
LAST-MODIFIED:20150929T034615Z
UID:1226-1444665600-1444676400@www.susd.k12.or.us
SUMMARY:CB Volleyball at Jo Lane Red
DESCRIPTION:
URL:https://www.susd.k12.or.us/cms/event/cb-volleyball-at-jo-lane-red/
LOCATION:Joseph Lane Middle School\, 2153 NE Vine St\, Roseburg\, OR\, 97470\, United States
END:VEVENT
BEGIN:VEVENT
DTSTART;TZID=America/Los_Angeles:20151009T080000
DTEND;TZID=America/Los_Angeles:20151009T170000
DTSTAMP:20260420T010316
CREATED:20150819T211314Z
LAST-MODIFIED:20150819T211314Z
UID:823-1444377600-1444410000@www.susd.k12.or.us
SUMMARY:No School
DESCRIPTION:
URL:https://www.susd.k12.or.us/cms/event/no-school/
END:VEVENT
BEGIN:VEVENT
DTSTART;TZID=UTC:20151007T133000
DTEND;TZID=UTC:20151007T143000
DTSTAMP:20260420T010316
CREATED:20150917T033228Z
LAST-MODIFIED:20150917T033228Z
UID:1096-1444224600-1444228200@www.susd.k12.or.us
SUMMARY:Sports - Picture Day
DESCRIPTION:Football and Volleyball
URL:https://www.susd.k12.or.us/cms/event/sports-picture-day/
END:VEVENT
BEGIN:VEVENT
DTSTART;TZID=UTC:20151006T160000
DTEND;TZID=UTC:20151006T180000
DTSTAMP:20260420T010316
CREATED:20150929T025450Z
LAST-MODIFIED:20150929T025923Z
UID:1223-1444147200-1444154400@www.susd.k12.or.us
SUMMARY:CB Football vs Winston
DESCRIPTION:
URL:https://www.susd.k12.or.us/cms/event/cb-football-vs-winston/
LOCATION:Coffenberry Gym\, 930 NE Spruce\, Myrtle Creek\, 97457
END:VEVENT
BEGIN:VEVENT
DTSTART;TZID=UTC:20151005T160000
DTEND;TZID=UTC:20151005T190000
DTSTAMP:20260420T010316
CREATED:20150929T035125Z
LAST-MODIFIED:20150929T035125Z
UID:1229-1444060800-1444071600@www.susd.k12.or.us
SUMMARY:CB Volleyball vs Fremont Gold
DESCRIPTION:
URL:https://www.susd.k12.or.us/cms/event/cb-volleyball-vs-fremont-gold/
LOCATION:Coffenberry Gym\, 930 NE Spruce\, Myrtle Creek\, 97457
END:VEVENT
BEGIN:VEVENT
DTSTART;TZID=UTC:20151005T134000
DTEND;TZID=UTC:20151005T141000
DTSTAMP:20260420T010316
CREATED:20150922T035109Z
LAST-MODIFIED:20150922T035109Z
UID:1149-1444052400-1444054200@www.susd.k12.or.us
SUMMARY:School Bus Evac Drill
DESCRIPTION:
URL:https://www.susd.k12.or.us/cms/event/school-bus-evac-drill/
END:VEVENT
BEGIN:VEVENT
DTSTART;TZID=UTC:20151002T133500
DTEND;TZID=UTC:20151002T141500
DTSTAMP:20260420T010316
CREATED:20150924T213430Z
LAST-MODIFIED:20150924T213430Z
UID:1184-1443792900-1443795300@www.susd.k12.or.us
SUMMARY:Volleyball 7th period
DESCRIPTION:Volleyball is raising money! Come watch the 8th grade Volleyball players vs the staff at Coffenberry for $1.00.
URL:https://www.susd.k12.or.us/cms/event/volleyball-7th-period/
END:VEVENT
BEGIN:VEVENT
DTSTART;TZID=UTC:20151001T160000
DTEND;TZID=UTC:20151001T190000
DTSTAMP:20260420T010316
CREATED:20150929T035031Z
LAST-MODIFIED:20150929T035031Z
UID:1228-1443715200-1443726000@www.susd.k12.or.us
SUMMARY:CB Volleyball vs Fremont Blue
DESCRIPTION:
URL:https://www.susd.k12.or.us/cms/event/cb-volleyball-vs-fremont-blue/
LOCATION:Coffenberry Gym\, 930 NE Spruce\, Myrtle Creek\, 97457
END:VEVENT
BEGIN:VEVENT
DTSTART;TZID=UTC:20150930T173000
DTEND;TZID=UTC:20150930T190000
DTSTAMP:20260420T010316
CREATED:20150819T210725Z
LAST-MODIFIED:20151001T000545Z
UID:818-1443634200-1443639600@www.susd.k12.or.us
SUMMARY:Family Night
DESCRIPTION:
URL:https://www.susd.k12.or.us/cms/event/family-night/
END:VEVENT
BEGIN:VEVENT
DTSTART;TZID=UTC:20150929T160000
DTEND;TZID=UTC:20150929T190000
DTSTAMP:20260420T010316
CREATED:20150929T034914Z
LAST-MODIFIED:20150929T034914Z
UID:1227-1443542400-1443553200@www.susd.k12.or.us
SUMMARY:CB Volleyball at Jo Lane White
DESCRIPTION:
URL:https://www.susd.k12.or.us/cms/event/cb-volleyball-at-jo-lane-white/
LOCATION:Joseph Lane Middle School\, 2153 NE Vine St\, Roseburg\, OR\, 97470\, United States
END:VEVENT
BEGIN:VEVENT
DTSTART;TZID=UTC:20150929T160000
DTEND;TZID=UTC:20150929T180000
DTSTAMP:20260420T010316
CREATED:20150929T012102Z
LAST-MODIFIED:20150929T012102Z
UID:1216-1443542400-1443549600@www.susd.k12.or.us
SUMMARY:CB Football at Sutherlin
DESCRIPTION:
URL:https://www.susd.k12.or.us/cms/event/cb-football-at-sutherlin/
LOCATION:Sutherlin Middle School\, 649 E 4th Ave. \, Sutherlin\, OR\, 97479\, United States
END:VEVENT
BEGIN:VEVENT
DTSTART;TZID=America/Los_Angeles:20150925T080000
DTEND;TZID=America/Los_Angeles:20151002T170000
DTSTAMP:20260420T010316
CREATED:20150819T210626Z
LAST-MODIFIED:20150819T210626Z
UID:817-1443168000-1443805200@www.susd.k12.or.us
SUMMARY:CB Book Fair
DESCRIPTION:
URL:https://www.susd.k12.or.us/cms/event/cb-book-fair/
END:VEVENT
BEGIN:VEVENT
DTSTART;TZID=UTC:20150924T133500
DTEND;TZID=UTC:20150924T141500
DTSTAMP:20260420T010316
CREATED:20150916T224414Z
LAST-MODIFIED:20150916T224414Z
UID:1086-1443101700-1443104100@www.susd.k12.or.us
SUMMARY:PBS 7th Period
DESCRIPTION:
URL:https://www.susd.k12.or.us/cms/event/pbs-7th-period/
END:VEVENT
BEGIN:VEVENT
DTSTART;TZID=America/Los_Angeles:20150918T081000
DTEND;TZID=America/Los_Angeles:20150918T100000
DTSTAMP:20260420T010316
CREATED:20150819T210402Z
LAST-MODIFIED:20150819T210517Z
UID:816-1442563800-1442570400@www.susd.k12.or.us
SUMMARY:Picture Day
DESCRIPTION:Smile! \n8:10 am in the gym
URL:https://www.susd.k12.or.us/cms/event/picture-day/
END:VEVENT
END:VCALENDAR